BEGIN:VCALENDAR
VERSION:2.0
PRODID:-//Lesbian Sex Mafia - ECPv6.15.20//NONSGML v1.0//EN
CALSCALE:GREGORIAN
METHOD:PUBLISH
X-WR-CALNAME:Lesbian Sex Mafia
X-ORIGINAL-URL:https://lesbiansexmafia.org
X-WR-CALDESC:Events for Lesbian Sex Mafia
REFRESH-INTERVAL;VALUE=DURATION:PT1H
X-Robots-Tag:noindex
X-PUBLISHED-TTL:PT1H
BEGIN:VTIMEZONE
TZID:America/New_York
BEGIN:DAYLIGHT
TZOFFSETFROM:-0500
TZOFFSETTO:-0400
TZNAME:EDT
DTSTART:20240310T070000
END:DAYLIGHT
BEGIN:STANDARD
TZOFFSETFROM:-0400
TZOFFSETTO:-0500
TZNAME:EST
DTSTART:20241103T060000
END:STANDARD
BEGIN:DAYLIGHT
TZOFFSETFROM:-0500
TZOFFSETTO:-0400
TZNAME:EDT
DTSTART:20250309T070000
END:DAYLIGHT
BEGIN:STANDARD
TZOFFSETFROM:-0400
TZOFFSETTO:-0500
TZNAME:EST
DTSTART:20251102T060000
END:STANDARD
BEGIN:DAYLIGHT
TZOFFSETFROM:-0500
TZOFFSETTO:-0400
TZNAME:EDT
DTSTART:20260308T070000
END:DAYLIGHT
BEGIN:STANDARD
TZOFFSETFROM:-0400
TZOFFSETTO:-0500
TZNAME:EST
DTSTART:20261101T060000
END:STANDARD
END:VTIMEZONE
BEGIN:VEVENT
DTSTART;TZID=America/New_York:20251213T140000
DTEND;TZID=America/New_York:20251213T160000
DTSTAMP:20260422T222551
CREATED:20250120T221149Z
LAST-MODIFIED:20250120T221149Z
UID:7903-1765634400-1765641600@lesbiansexmafia.org
SUMMARY:LSM Presents: Queens Munch - December
DESCRIPTION:Cost: Free\, but please buy food and drink to support the bar (and tip the staff!) \nCOVID/Public Health Safety & Precautions \nWe trust that attendees can assess their own level of public health comfort. \nIf you attend LSM events\, please be healthy\, vaxxed\, boosted\, and tested for your sake and the sake of the community. We support anyone’s choice to wear masks at venues that don’t require them. \nWhy RSVP? Can’t I just show up? \nThe RSVPs give us an idea of how many folx to expect. But\, you can just show up. 🙂 You do not have to be a member to attend. Check us out. We don’t bite…non-consensually. Just be 18+ and identify with our gender policy.
URL:https://lesbiansexmafia.org/event/lsm-presents-queens-munch-december/
LOCATION:NY
ATTACH;FMTTYPE=image/jpeg:https://lesbiansexmafia.org/wp-content/uploads/2025/01/https___cdn.evbuc_.com_images_447503299_300561666520_1_original.jpeg
ORGANIZER;CN="Lesbian Sex Mafia":MAILTO:lesbiansexmafia@gmail.com
END:VEVENT
END:VCALENDAR