BEGIN:VCALENDAR
VERSION:2.0
PRODID:-//Lesbian Sex Mafia - ECPv6.15.20//NONSGML v1.0//EN
CALSCALE:GREGORIAN
METHOD:PUBLISH
X-ORIGINAL-URL:https://lesbiansexmafia.org
X-WR-CALDESC:Events for Lesbian Sex Mafia
REFRESH-INTERVAL;VALUE=DURATION:PT1H
X-Robots-Tag:noindex
X-PUBLISHED-TTL:PT1H
BEGIN:VTIMEZONE
TZID:America/New_York
BEGIN:DAYLIGHT
TZOFFSETFROM:-0500
TZOFFSETTO:-0400
TZNAME:EDT
DTSTART:20230312T070000
END:DAYLIGHT
BEGIN:STANDARD
TZOFFSETFROM:-0400
TZOFFSETTO:-0500
TZNAME:EST
DTSTART:20231105T060000
END:STANDARD
BEGIN:DAYLIGHT
TZOFFSETFROM:-0500
TZOFFSETTO:-0400
TZNAME:EDT
DTSTART:20240310T070000
END:DAYLIGHT
BEGIN:STANDARD
TZOFFSETFROM:-0400
TZOFFSETTO:-0500
TZNAME:EST
DTSTART:20241103T060000
END:STANDARD
BEGIN:DAYLIGHT
TZOFFSETFROM:-0500
TZOFFSETTO:-0400
TZNAME:EDT
DTSTART:20250309T070000
END:DAYLIGHT
BEGIN:STANDARD
TZOFFSETFROM:-0400
TZOFFSETTO:-0500
TZNAME:EST
DTSTART:20251102T060000
END:STANDARD
END:VTIMEZONE
BEGIN:VEVENT
DTSTART;TZID=America/New_York:20240904T193000
DTEND;TZID=America/New_York:20240904T213000
DTSTAMP:20260422T090836
CREATED:20240818T190441Z
LAST-MODIFIED:20240818T190528Z
UID:7727-1725478200-1725485400@lesbiansexmafia.org
SUMMARY:LSM Member Orientation - Virtual
DESCRIPTION:Interested in becoming a member of the Lesbian Sex Mafia? Join us for new member orientation with Membership Officer Sigrid! \n9/4 | 7:30p ET | Virtual: LSM Member Orientation Ticket Link \n 
URL:https://lesbiansexmafia.org/event/lsm-member-orientation-virtual/
LOCATION:Online
ATTACH;FMTTYPE=image/jpeg:https://lesbiansexmafia.org/wp-content/uploads/2024/08/orientationn.jpeg
ORGANIZER;CN="Lesbian Sex Mafia":MAILTO:lesbiansexmafia@gmail.com
END:VEVENT
BEGIN:VEVENT
DTSTART;TZID=America/New_York:20240905T190000
DTEND;TZID=America/New_York:20240905T203000
DTSTAMP:20260422T090836
CREATED:20240818T191057Z
LAST-MODIFIED:20240819T004104Z
UID:7731-1725562800-1725568200@lesbiansexmafia.org
SUMMARY:LSM Presents: Monthly Bar Night - Henrietta Hudson
DESCRIPTION:Monthly kinky\, queer bar night! Come cruize with us.\n\nLocation: Henrietta Hudson – 438 Hudson St\, NYC (look for us inside!)\nCost: Free\, but please purchase drinks (and TIP your bartender) to support queer businesses.When: Thursday\, September 5 @ 7PMJoin us at our monthly SLOSH. As per the ‘urban dictionary\,’ a slosh is social (non-play) gathering of BDSM enthusiasts in a bar. Meet other queer “BDSM enthusiasts” for a cocktail/mocktail.Do I have to be a member to attend?No\, you do not have to be a member to attend. (WAIT…why aren’t you a member? Sign up NOW to get access to discounts and early access to our events that are usually sold out. More information on membership HERE. Check us out.) Only requirements for attending is that you are 21+ (It’s a bar; yes\, they card.) and identify with our gender policy. \nCOVID/Public Health Safety & Precautions \nLSM trusts that attendees can assess their own level of public health comfort. \nIf you attend LSM events\, please be vaxxed\, boosted\, and tested for your sake and the sake of the community. \nHenrietta’s does not require masks\, but LSM supports your choice to wear one. \nWhy RSVP? Can’t I just show up? \nThe RSVPs help us keep count. \nThe bar can better serve us if they know approximately how many folks to expect. \nBut\, you can just show up. 🙂 \nDoes the party really stop at 8:30pm? That’s SO early. \nW e set a time frame so that most folks are generally at the event at the same time. We want y’all to “meet!” And\, LSM coordinators are “off duty” at 8:30pm. While we make no guarantees\, folks tend to have such a good time that it usually continues well past 8:30pm. (Yeah\, we’re bragging.) \n\nMonthly Bar Night – September RSVP
URL:https://lesbiansexmafia.org/event/lsm-monthly-bar-night-henrietta-hudson/
LOCATION:Henrietta Hudson\, 438 Hudson St\, New York\, NY\, 10014\, United States
ATTACH;FMTTYPE=image/jpeg:https://lesbiansexmafia.org/wp-content/uploads/2022/07/Monthly-Bar-Night-Henrietta-Hudson.jpg
ORGANIZER;CN="Lesbian Sex Mafia":MAILTO:lesbiansexmafia@gmail.com
END:VEVENT
BEGIN:VEVENT
DTSTART;TZID=America/New_York:20240912T193000
DTEND;TZID=America/New_York:20240912T210000
DTSTAMP:20260422T090836
CREATED:20240818T192201Z
LAST-MODIFIED:20240818T192201Z
UID:7734-1726169400-1726174800@lesbiansexmafia.org
SUMMARY:LSM Member-Only Board Meeting
DESCRIPTION:Member-Only Board Meeting\nThursday\, September 12 | 7:30pm\nLocation: Virtual\nCost: Free \nFull members only \nYou know you wanna be part of women/trans BDSM history.\nLSM is the oldest\, continuously running\nwomen/trans BDSM group in the country \nKeep us going for 40 more years! \nFind out how it’s all done \nNot a member? Interested? Check out our membership page and application.\nRSVP link TO COME in members email
URL:https://lesbiansexmafia.org/event/lsm-member-only-board-meeting-2/
LOCATION:Online
ATTACH;FMTTYPE=image/png:https://lesbiansexmafia.org/wp-content/uploads/2024/08/Board-Meeting.png
ORGANIZER;CN="Lesbian Sex Mafia":MAILTO:lesbiansexmafia@gmail.com
END:VEVENT
BEGIN:VEVENT
DTSTART;TZID=America/New_York:20240914T140000
DTEND;TZID=America/New_York:20240914T160000
DTSTAMP:20260422T090836
CREATED:20240819T001605Z
LAST-MODIFIED:20240830T190532Z
UID:7737-1726322400-1726329600@lesbiansexmafia.org
SUMMARY:LSM Presents: Queens Picnic Munch
DESCRIPTION:LSM Presents: Queens Picnic Munch\nSaturday\, September 14 | 2-4pm\nLocation: Under the Pepsi-Cola sign in Gantry State Park\, 4-09 47th Rd. Long Island City\, NY 11109\nCost: Free\, but bringing snacks and/or beverages\nfor everyone to share ALWAYS helps\n\nMeet/cruize kinky queers at a picnic munch in Gantry State Park. Look out for us under the Pepsi-Cola sign on the black beach towels!\n\n\n2nd Saturdays of the monthThe Pepsi-Cola Sign address is also listed as 4610 Center Blvd on Google Maps. The sign will be on your left if you use the Gantry Plaza State Park entrance nearest to the 46th Ave. & Center Blvd. intersection. \nRain location (in case the weather looks bad): Sweetleaf Coffee & Tea at 4615 Center Blvd\, Long Island City\, NY 11109 \nCOVID/Public Health Safety & Precautions \nWe trust that attendees can assess their own level of public health comfort. \nIf you attend LSM events\, please be healthy\, vaxxed\, boosted\, and tested for your sake and the sake of the community. We support anyone’s choice to wear masks at venues that don’t require them. \nWhy RSVP? Can’t I just show up? \nThe RSVPs give us an idea of how many folx to expect. But\, you can just show up. 🙂 You do not have to be a member to attend. Check us out. We don’t bite…non-consensually. Just be 18+ and identify with our gender policy. \n\nQueens Picnic Munch – September RSVP Link
URL:https://lesbiansexmafia.org/event/lsm-presents-queens-picnic-munch/
LOCATION:Pepsi Cola Sign\, 4610 Center Blvd\, New York\, NY\, 11109
ATTACH;FMTTYPE=image/png:https://lesbiansexmafia.org/wp-content/uploads/2024/08/Queens-Munch.png
ORGANIZER;CN="Lesbian Sex Mafia":MAILTO:lesbiansexmafia@gmail.com
END:VEVENT
BEGIN:VEVENT
DTSTART;TZID=America/New_York:20240920T200000
DTEND;TZID=America/New_York:20240920T220000
DTSTAMP:20260422T090836
CREATED:20240819T003152Z
LAST-MODIFIED:20240830T190256Z
UID:7741-1726862400-1726869600@lesbiansexmafia.org
SUMMARY:LSM Kink Exploratorium
DESCRIPTION:Friday\, September 20 @ 8PM EST \nIn-Person Only: LGBT Center\, 208 W 13th St\, New York\, NY 10011 \nSales end 9/20 @ 6PM EST \nTicket Link \nKinky Exploratorium \nEver wonder what a violet wand against your skin would feel like? Want to try wax play\, but too nervous about doing it on your own? Fantasized about floggers\, but not exactly sure how to use them? Think rope is something you might want to add to your play repertoire? \nHere’s one of the best opportunities to explore some basic BDSM under the supervision of experienced scenesters. Four types of play to sample: electrical play via violet wand; wax play; flogging; and rope bondage. Many friendly and knowledgeable LSM members will be on hand to discuss toys and techniques\, answer questions and share interests. Come try the things you always wanted to know more about in this fun\, safe and supportive space. \nCovid Protocol:\n\nAs an exploratorium can be hands-on and intimate\, we will require either proof of a negative covid taken within 12 hours of the event or you wear a mask.\n\nAccessibility Details: \n\nThe LGBT Center at 208 W 13th St. is fully wheelchair-accessible. Bathrooms are available on each floor.\nChairs will be available in the space. You are welcome to pull up a chair at an exploratorium station if this is more accessible for you.\nPlease reach out to us at lesbiansexmafia@gmail.com with any questions about accessibility.
URL:https://lesbiansexmafia.org/event/lsm-kink-exploratorium/
LOCATION:The LGBT Center\, 208 W 13th Street\, New York\, NY\, 10011\, United States
ATTACH;FMTTYPE=image/jpeg:https://lesbiansexmafia.org/wp-content/uploads/2024/08/Kink-Exploratorium.jpeg
ORGANIZER;CN="Lesbian Sex Mafia":MAILTO:lesbiansexmafia@gmail.com
END:VEVENT
END:VCALENDAR